Workbook

Sheet ÚVOD
B2: CENÍK nábytkové rolety 2022:
M3: ceny od 1.8.2026
B4: DODÁNÍ: | D4: skladem
D5: 4 týdny
B8: OBCHODNÍ SLEVY | D8: se nevztahují na
B9: LAKOVÁNÍ | D9: lakování k dodání do 3 týdnů, fixní příplatek za lakovací box + cena za lakování + cena profilu
B12: *Platnost do vydání nového ceníku

Sheet Služby
A2: Služby
A4: Skupina | B4: Reg. číslo | C4: Název | D4: Prodejní množství/MJ | F4: Prodejní cena bez DPH/MJ | G4: Prodejní cena vč. DPH 21% /MJ
A6: služby | B6: protikusRB02 | C6: příprava protikusu do koncové lišty RB02 | D6: 1 | E6: ks | F6: =VLOOKUP(B6,'ceny 8_2026'!$C$2:$E$656,3,0) -> 80 | G6: =SUM(F6)*1.21 -> 96.8
A7: služby | B7: sluRB66 | C7: frézování úchytky RB66 | D7: 1 | E7: ks | F7: =VLOOKUP(B7,'ceny 8_2026'!$C$2:$E$656,3,0) -> 140 | G7: =SUM(F7)*1.21 -> 169.4
A8: služby | B8: zámekRB02 | C8: příprava koncové lišty RB02 pro zámek RB61 | D8: 1 | E8: ks | F8: =VLOOKUP(B8,'ceny 8_2026'!$C$2:$E$656,3,0) -> 139 | G8: =SUM(F8)*1.21 -> 168.19
A9: služby | B9: zámekRB60 | C9: příprava koncové lišty RB02 pro zámek RB60 | D9: 1 | E9: ks | F9: =VLOOKUP(B9,'ceny 8_2026'!$C$2:$E$656,3,0) -> 166 | G9: =SUM(F9)*1.21 -> 200.86
A10: služby | B10: sluzbaRC03 | C10: odfrézování koncové lišty RC03 pro kl.kolík | D10: 1 | E10: ks | F10: =VLOOKUP(B10,'ceny 8_2026'!$C$2:$E$656,3,0) -> 140 | G10: =SUM(F10)*1.21 -> 169.4
A11: služby | B11: sluzbaRC2 | C11: příprava koncové lišty RC05,RC06 pro zámek | D11: 1 | E11: ks | F11: =VLOOKUP(B11,'ceny 8_2026'!$C$2:$E$656,3,0) -> 242 | G11: =SUM(F11)*1.21 -> 292.82
A12: služby | B12: sluzRC11 | C12: odfrézování lišty RC11 pro mechaniku C3 | D12: 1 | E12: par | F12: =VLOOKUP(B12,'ceny 8_2026'!$C$2:$E$656,3,0) -> 140 | G12: =SUM(F12)*1.21 -> 169.4
A13: služby | B13: zámekRC03 | C13: příprava koncové lišty RC03 pro zámek | D13: 1 | E13: ks | F13: =VLOOKUP(B13,'ceny 8_2026'!$C$2:$E$656,3,0) -> 246 | G13: =SUM(F13)*1.21 -> 297.66
A14: služby | B14: montaz | C14: montáž technikem - 1 roleta | D14: 1 | E14: ks | F14: =VLOOKUP(B14,'ceny 8_2026'!$C$2:$E$656,3,0) -> 2400 | G14: =SUM(F14)*1.21 -> 2904
A15: služby | B15: cestovne | C15: cestovní náklady na montáž/ 1 km | D15: 1 | E15: ks | F15: =VLOOKUP(B15,'ceny 8_2026'!$C$2:$E$656,3,0) -> 15 | G15: =SUM(F15)*1.21 -> 18.15
A16: služby | B16: lak0001 | C16: poplatek za přípravu boxu pro lakování | D16: 1 | E16: ks | F16: =VLOOKUP(B16,'ceny 8_2026'!$C$2:$E$656,3,0) -> 3017 | G16: =SUM(F16)*1.21 -> 3650.57
A17: služby | B17: fix30000 | C17: dodatečná úprava FIX SETU, ALU BOXU | D17: 1 | E17: ks | F17: =VLOOKUP(B17,'ceny 8_2026'!$C$2:$E$656,3,0) -> 290 | G17: =SUM(F17)*1.21 -> 350.9
... A19: služby | B19: fixplast | C19: příprava plastového FIX pancíře | D19: 1 | E19: ks | F19: =VLOOKUP(B19,'ceny 8_2026'!$C$2:$E$656,3,0) -> 347 | G19: =SUM(F19)*1.21 -> 419.87

Sheet plastové náb. rolety
A2: Plastové nábytkové rolety
A4: Skupina | B4: Reg. číslo | C4: Název | D4: Prodejní množství/MJ | F4: Prodejní cena bez DPH/MJ | G4: Prodejní cena vč. DPH 21% /MJ
A6: nábytkové rolety | B6: RB1C/01 | C6: Náb. roleta E23 černá | D6: 2.5 | E6: bm | F6: =VLOOKUP(B6,'ceny 8_2026'!$C$2:$E$656,3,0) -> 107 | G6: =SUM(F6)*1.21 -> 129.47
A7: nábytkové rolety | B7: RB1C/02 | C7: Náb. roleta E23 bílá | D7: 2.5 | E7: bm | F7: =VLOOKUP(B7,'ceny 8_2026'!$C$2:$E$656,3,0) -> 107 | G7: =SUM(F7)*1.21 -> 129.47
A8: nábytkové rolety | B8: RB1C/02Pr | C8: Náb. roleta E23 bílá + primer | D8: 3 | E8: bm | F8: =VLOOKUP(B8,'ceny 8_2026'!$C$2:$E$656,3,0) -> 138 | G8: =SUM(F8)*1.21 -> 166.98
A9: nábytkové rolety | B9: RB1C/03 | C9: Náb. roleta E23 šedá | D9: 2.5 | E9: bm | F9: =VLOOKUP(B9,'ceny 8_2026'!$C$2:$E$656,3,0) -> 107 | G9: =SUM(F9)*1.21 -> 129.47
A10: nábytkové rolety | B10: RB1C/56 | C10: Náb. roleta E23 buk | D10: 2.5 | E10: bm | F10: =VLOOKUP(B10,'ceny 8_2026'!$C$2:$E$656,3,0) -> 120 | G10: =SUM(F10)*1.21 -> 145.2
A11: nábytkové rolety | B11: RB1C/An | C11: Náb. roleta E23 antracit | D11: 2.5 | E11: bm | F11: =VLOOKUP(B11,'ceny 8_2026'!$C$2:$E$656,3,0) -> 107 | G11: =SUM(F11)*1.21 -> 129.47
A12: nábytkové rolety | B12: RB1C/F179 | C12: Náb. roleta E23 bříza | D12: 2.5 | E12: bm | F12: =VLOOKUP(B12,'ceny 8_2026'!$C$2:$E$656,3,0) -> 120 | G12: =SUM(F12)*1.21 -> 145.2
A13: nábytkové rolety | B13: RB1C/F224 | C13: Náb. roleta E23 javor | D13: 2.5 | E13: bm | F13: =VLOOKUP(B13,'ceny 8_2026'!$C$2:$E$656,3,0) -> 120 | G13: =SUM(F13)*1.21 -> 145.2
A14: nábytkové rolety | B14: RB1C/ch | C14: Náb. roleta E23 chrom | D14: 2.5 | E14: bm | F14: =VLOOKUP(B14,'ceny 8_2026'!$C$2:$E$656,3,0) -> 120 | G14: =SUM(F14)*1.21 -> 145.2
A15: nábytkové rolety | B15: 0R25B/ch | C15: PVC roletový pancíř chrom | D15: 2.5 | E15: bm | F15: =VLOOKUP(B15,'ceny 8_2026'!$C$2:$E$656,3,0) -> 99 | G15: =SUM(F15)*1.21 -> 119.79
A16: nábytkové rolety | B16: R25B/02Z | C16: PVC roletový pancíř 25mm - zářivě bílá | D16: 2.5 | E16: bm | F16: =VLOOKUP(B16,'ceny 8_2026'!$C$2:$E$656,3,0) -> 88 | G16: =SUM(F16)*1.21 -> 106.48
A17: nábytkové rolety | B17: RNB/01 | C17: Náb. roleta Noble mat - černá mat | D17: 2.5 | E17: bm | F17: =VLOOKUP(B17,'ceny 8_2026'!$C$2:$E$656,3,0) -> 145 | G17: =SUM(F17)*1.21 -> 175.45
... A158: Komponenty k roletám | B158: RB7B/01 | C158: vodící šnek TOP,FRAME - 1240 mm | D158: 1 | E158: par | F158: =VLOOKUP(B158,'ceny 8_2026'!$C$2:$E$656,3,0) -> 216 | G158: =SUM(F158)*1.21 -> 261.36
A160: služby | B160: fixset | C160: příprava roletového FIX SETU | D160: 1 | E160: ks | F160: 477 | G160: =SUM(F160)*1.21 -> 577.17
A161: služby | B161: protikusRB02 | C161: příprava protikusu do koncové lišty RB02 | D161: 1 | E161: ks | F161: =VLOOKUP(B161,'ceny 8_2026'!$C$2:$E$656,3,0) -> 80 | G161: =SUM(F161)*1.21 -> 96.8
A162: služby | B162: sluRB66 | C162: frézování úchytky RB66 | D162: 1 | E162: ks | F162: =VLOOKUP(B162,'ceny 8_2026'!$C$2:$E$656,3,0) -> 140 | G162: =SUM(F162)*1.21 -> 169.4
A163: služby | B163: zámekRB02 | C163: příprava koncové lišty RB02 pro zámek RB61 | D163: 1 | E163: ks | F163: =VLOOKUP(B163,'ceny 8_2026'!$C$2:$E$656,3,0) -> 139 | G163: =SUM(F163)*1.21 -> 168.19
A164: služby | B164: zámekRB60 | C164: příprava koncové lišty RB02 pro zámek RB60 | D164: 1 | E164: ks | F164: =VLOOKUP(B164,'ceny 8_2026'!$C$2:$E$656,3,0) -> 166 | G164: =SUM(F164)*1.21 -> 200.86

Sheet metalické náb. rolety
A2: Metalické nábytkové rolety
A4: Skupina | B4: Reg. číslo | C4: Název | D4: Prodejní množství/MJ | F4: Prodejní cena bez DPH/MJ | G4: Prodejní cena vč. DPH 21% /MJ
A6: Nábytkové rolety-metalic line | B6: R25C/Al | C6: Metallic line pancíř 25mm - hliník | D6: 2.5 | E6: bm | F6: =VLOOKUP(B6,'ceny 8_2026'!$C$2:$E$656,3,0) -> 147 | G6: =SUM(F6)*1.21 -> 177.87
A7: Nábytkové rolety-metalic line | B7: R25C/Ne | C7: Metallic line pancíř 25mm - nerez | D7: 2.5 | E7: bm | F7: =VLOOKUP(B7,'ceny 8_2026'!$C$2:$E$656,3,0) -> 147 | G7: =SUM(F7)*1.21 -> 177.87
A8: Nábytkové rolety-metalic line | B8: RC30/Al | C8: Krycí lišta - hliník | D8: 0.1 | E8: bm | F8: =VLOOKUP(B8,'ceny 8_2026'!$C$2:$E$656,3,0) -> 1090 | G8: =SUM(F8)*1.21 -> 1318.9
A9: Nábytkové rolety-metalic line | B9: RC30/Ne | C9: Krycí lišta - nerez | D9: 0.1 | E9: bm | F9: =VLOOKUP(B9,'ceny 8_2026'!$C$2:$E$656,3,0) -> 1506 | G9: =SUM(F9)*1.21 -> 1822.26
A10: Nábytkové rolety-metalic line | B10: RC70/Al | C10: Středová úchytová lišta hliník se spoj.profilem | D10: 0.1 | E10: bm | F10: =VLOOKUP(B10,'ceny 8_2026'!$C$2:$E$656,3,0) -> 671 | G10: =SUM(F10)*1.21 -> 811.91
A11: Nábytkové rolety-metalic line | B11: RC70/Ne | C11: Středová úchytová lišta nerez se spoj. profilem | D11: 0.1 | E11: bm | F11: =VLOOKUP(B11,'ceny 8_2026'!$C$2:$E$656,3,0) -> 738 | G11: =SUM(F11)*1.21 -> 892.98
A12: Nábytkové rolety-metalic line | B12: RC02/Al | C12: Koncová lišta s doraz.profilem - hliník | D12: 0.1 | E12: bm | F12: =VLOOKUP(B12,'ceny 8_2026'!$C$2:$E$656,3,0) -> 935 | G12: =SUM(F12)*1.21 -> 1131.35
A13: Nábytkové rolety-metalic line | B13: RC02/Ne | C13: Koncová lišta s doraz.profilem - nerez | D13: 0.1 | E13: bm | F13: =VLOOKUP(B13,'ceny 8_2026'!$C$2:$E$656,3,0) -> 1322 | G13: =SUM(F13)*1.21 -> 1599.62
A14: Nábytkové rolety-metalic line | B14: RC03/Al | C14: koncová lišta - hliník | D14: 0.1 | E14: bm | F14: =VLOOKUP(B14,'ceny 8_2026'!$C$2:$E$656,3,0) -> 858 | G14: =SUM(F14)*1.21 -> 1038.18
A15: Nábytkové rolety-metalic line | B15: RC03/Ne | C15: koncová lišta - nerez | D15: 0.1 | E15: bm | F15: =VLOOKUP(B15,'ceny 8_2026'!$C$2:$E$656,3,0) -> 1125 | G15: =SUM(F15)*1.21 -> 1361.25
A16: Nábytkové rolety-metalic line | B16: RC05/Al | C16: koncová lišta s přesahem spodní díl - hliník | D16: 0.1 | E16: bm | F16: =VLOOKUP(B16,'ceny 8_2026'!$C$2:$E$656,3,0) -> 1011 | G16: =SUM(F16)*1.21 -> 1223.31
A17: Nábytkové rolety-metalic line | B17: RC06/Al | C17: Koncová lišta s přesahem HLINÍK | D17: 0.1 | E17: bm | F17: =VLOOKUP(B17,'ceny 8_2026'!$C$2:$E$656,3,0) -> 1034 | G17: =SUM(F17)*1.21 -> 1251.14
... A40: Nábytkové rolety-metalic line | B40: RC32/Al | C40: krycí lišta s přesahem- spodní díl | D40: 0.1 | E40: bm | F40: =VLOOKUP(B40,'ceny 8_2026'!$C$2:$E$656,3,0) -> 554 | G40: =SUM(F40)*1.21 -> 670.34
A42: služby | B42: fixset | C42: příprava roletového FIX SETU | D42: 1 | E42: ks | F42: 785 | G42: =SUM(F42)*1.21 -> 949.85
A43: služby | B43: sluzbaRC03 | C43: odfrézování koncové lišty RC03 pro kl.kolík | D43: 1 | E43: ks | F43: =VLOOKUP(B43,'ceny 8_2026'!$C$2:$E$656,3,0) -> 140 | G43: =SUM(F43)*1.21 -> 169.4
A44: služby | B44: sluzbaRC2 | C44: příprava koncové lišty RC05,RC06 pro zámek | D44: 1 | E44: ks | F44: =VLOOKUP(B44,'ceny 8_2026'!$C$2:$E$656,3,0) -> 242 | G44: =SUM(F44)*1.21 -> 292.82
A45: služby | B45: sluzRC11 | C45: odfrézování lišty RC11 pro mechaniku C3 | D45: 1 | E45: par | F45: =VLOOKUP(B45,'ceny 8_2026'!$C$2:$E$656,3,0) -> 140 | G45: =SUM(F45)*1.21 -> 169.4
A46: služby | B46: zámekRC03 | C46: příprava koncové lišty RC03 pro zámek | D46: 1 | E46: ks | F46: =VLOOKUP(B46,'ceny 8_2026'!$C$2:$E$656,3,0) -> 246 | G46: =SUM(F46)*1.21 -> 297.66

Sheet sety KOOPLAST
A2: Sety Kooplast
A4: Skupina | B4: Reg. číslo | C4: Název | D4: Prodejní množství/MJ | F4: Prodejní cena bez DPH/MJ | G4: Prodejní cena vč. DPH 21% /MJ
A6: sety kooplast | B6: KOOBOX TOP/ch | C6: KOOBOX chrom, vedení TOP | D6: 1 | E6: ks | F6: =VLOOKUP(B6,'ceny 8_2026'!$C$2:$E$656,3,0) -> 9269 | G6: =SUM(F6)*1.21 -> 11215.49
A7: sety kooplast | B7: KOOBOX Frame/ch | C7: KOOBOX chrom, vedení Frame | D7: 1 | E7: ks | F7: =VLOOKUP(B7,'ceny 8_2026'!$C$2:$E$656,3,0) -> 12306 | G7: =SUM(F7)*1.21 -> 14890.26
A8: sety kooplast | B8: SETBIANCA1 | C8: koupelnový set Bianca 350x700 vertikální | D8: 1 | E8: ks | F8: =VLOOKUP(B8,'ceny 8_2026'!$C$2:$E$656,3,0) -> 5881 | G8: =SUM(F8)*1.21 -> 7116.01
A9: sety kooplast | B9: SETBIANCA2 | C9: koupelnový set Bianca 350x700 horizontální | D9: 1 | E9: ks | F9: =VLOOKUP(B9,'ceny 8_2026'!$C$2:$E$656,3,0) -> 5881 | G9: =SUM(F9)*1.21 -> 7116.01
A10: sety kooplast | B10: KOOBOX TOP/Ne25 | C10: KOOBOX nerez 25 mm, vedení TOP | D10: 1 | E10: ks | F10: =VLOOKUP(B10,'ceny 8_2026'!$C$2:$E$656,3,0) -> 13677 | G10: =SUM(F10)*1.21 -> 16549.17
A11: sety kooplast | B11: KOOBOX Frame/Ne25 | C11: KOOBOX nerez 25 mm, vedení Frame | D11: 1 | E11: ks | F11: =VLOOKUP(B11,'ceny 8_2026'!$C$2:$E$656,3,0) -> 17155 | G11: =SUM(F11)*1.21 -> 20757.55

Sheet crystal line
A2: Crystal line
A4: Skupina | B4: Reg. číslo | C4: Název | D4: Prodejní množství/MJ | F4: Prodejní cena bez DPH/MJ | G4: Prodejní cena vč. DPH 21% /MJ
A6: CRYSTAL LINE | B6: Crystal1/01L | C6: box Crystal line 600x1000mm ČERNÁ vysoký lesk | D6: 1 | E6: ks | F6: =VLOOKUP(B6,'ceny 8_2026'!$C$2:$E$656,3,0) -> 19353 | G6: =SUM(F6)*1.21 -> 23417.13
A7: CRYSTAL LINE | B7: Crystal1/01M | C7: box Crystal line 600x1000mm ČERNÁ mat | D7: 1 | E7: ks | F7: =VLOOKUP(B7,'ceny 8_2026'!$C$2:$E$656,3,0) -> 19255 | G7: =SUM(F7)*1.21 -> 23298.55
A8: CRYSTAL LINE | B8: Crystal1/02L | C8: box Crystal line 600x1000mm BÍLÁ vysoký lesk | D8: 1 | E8: ks | F8: =VLOOKUP(B8,'ceny 8_2026'!$C$2:$E$656,3,0) -> 18159 | G8: =SUM(F8)*1.21 -> 21972.39
A9: CRYSTAL LINE | B9: Crystal1/02M | C9: box Crystal line 600x1000mm BÍLÁ mat | D9: 1 | E9: ks | F9: =VLOOKUP(B9,'ceny 8_2026'!$C$2:$E$656,3,0) -> 19901 | G9: =SUM(F9)*1.21 -> 24080.21
A10: CRYSTAL LINE | B10: Crystal1/magL | C10: box Crystal line 600x1000mm MAGNOLIA vysoký lesk | D10: 1 | E10: ks | F10: =VLOOKUP(B10,'ceny 8_2026'!$C$2:$E$656,3,0) -> 19353 | G10: =SUM(F10)*1.21 -> 23417.13
A11: CRYSTAL LINE | B11: Crystal1/magM | C11: box Crystal line 600x1000mm MAGNOLIA mat | D11: 1 | E11: ks | F11: =VLOOKUP(B11,'ceny 8_2026'!$C$2:$E$656,3,0) -> 19901 | G11: =SUM(F11)*1.21 -> 24080.21
A12: CRYSTAL LINE | B12: Crystal1/titM | C12: box Crystal line 600x1000mm TITANIO mat | D12: 1 | E12: ks | F12: =VLOOKUP(B12,'ceny 8_2026'!$C$2:$E$656,3,0) -> 19901 | G12: =SUM(F12)*1.21 -> 24080.21
A13: CRYSTAL LINE | B13: Crystal2/01L | C13: box Crystal line 900x1000mm ČERNÁ vysoký lesk | D13: 1 | E13: ks | F13: =VLOOKUP(B13,'ceny 8_2026'!$C$2:$E$656,3,0) -> 23907 | G13: =SUM(F13)*1.21 -> 28927.47
A14: CRYSTAL LINE | B14: Crystal2/01M | C14: box Crystal line 900x1000mm ČERNÁ mat | D14: 1 | E14: ks | F14: =VLOOKUP(B14,'ceny 8_2026'!$C$2:$E$656,3,0) -> 24545 | G14: =SUM(F14)*1.21 -> 29699.45
A15: CRYSTAL LINE | B15: Crystal2/02L | C15: box Crystal line 900x1000mm BÍLÁ vysoký lesk | D15: 1 | E15: ks | F15: =VLOOKUP(B15,'ceny 8_2026'!$C$2:$E$656,3,0) -> 23907 | G15: =SUM(F15)*1.21 -> 28927.47
A16: CRYSTAL LINE | B16: Crystal2/02M | C16: box Crystal line 900x1000mm BÍLÁ mat | D16: 1 | E16: ks | F16: =VLOOKUP(B16,'ceny 8_2026'!$C$2:$E$656,3,0) -> 24545 | G16: =SUM(F16)*1.21 -> 29699.45
A17: CRYSTAL LINE | B17: Crystal2/magL | C17: box Crystal line 900x1000mm MAGNOLIA vysoký lesk | D17: 1 | E17: ks | F17: =VLOOKUP(B17,'ceny 8_2026'!$C$2:$E$656,3,0) -> 23907 | G17: =SUM(F17)*1.21 -> 28927.47
... A67: CRYSTAL LINE | B67: Crystal90/Ne | C67: úchytka Crystal line L=815 mm, NEREZ | D67: 1 | E67: par | F67: =VLOOKUP(B67,'ceny 8_2026'!$C$2:$E$656,3,0) -> 965 | G67: =SUM(F67)*1.21 -> 1167.65
A70: dodání:
A71: 4 týdny

Sheet Noble mat sety
A2: Noble mat sety
A4: Skupina | B4: Reg. číslo | C4: Název | D4: Prodejní množství/MJ | F4: Prodejní cena bez DPH/MJ | G4: Prodejní cena vč. DPH 21% /MJ
A6: Noble | B6: Noble1/01 | C6: box noble mat 600x1500 mm ČERNÁ | D6: 1 | E6: ks | F6: =VLOOKUP(B6,'ceny 8_2026'!$C$2:$E$656,3,0) -> 15035 | G6: =SUM(F6)*1.21 -> 18192.35
A7: Noble | B7: Noble1/02 | C7: box noble mat 600x1500 mm BÍLÁ | D7: 1 | E7: ks | F7: =VLOOKUP(B7,'ceny 8_2026'!$C$2:$E$656,3,0) -> 15035 | G7: =SUM(F7)*1.21 -> 18192.35
A8: Noble | B8: Noble1/03 | C8: box noble mat 600x1500 mm ŠEDÁ | D8: 1 | E8: ks | F8: =VLOOKUP(B8,'ceny 8_2026'!$C$2:$E$656,3,0) -> 15035 | G8: =SUM(F8)*1.21 -> 18192.35
A9: Noble | B9: Noble1/ant | C9: box noble mat 600x1500 mm ANTRACIT | D9: 1 | E9: ks | F9: =VLOOKUP(B9,'ceny 8_2026'!$C$2:$E$656,3,0) -> 15035 | G9: =SUM(F9)*1.21 -> 18192.35
A10: Noble | B10: Noble2/01 | C10: box noble mat 900x1500 mm ČERNÁ | D10: 1 | E10: ks | F10: =VLOOKUP(B10,'ceny 8_2026'!$C$2:$E$656,3,0) -> 20752 | G10: =SUM(F10)*1.21 -> 25109.92
A11: Noble | B11: Noble2/02 | C11: box noble mat 900x1500 mm BÍLÁ | D11: 1 | E11: ks | F11: =VLOOKUP(B11,'ceny 8_2026'!$C$2:$E$656,3,0) -> 20752 | G11: =SUM(F11)*1.21 -> 25109.92
A12: Noble | B12: Noble2/03 | C12: box noble mat 900x1500 mm ŠEDÁ | D12: 1 | E12: ks | F12: =VLOOKUP(B12,'ceny 8_2026'!$C$2:$E$656,3,0) -> 20752 | G12: =SUM(F12)*1.21 -> 25109.92
A13: Noble | B13: Noble2/ant | C13: box noble mat 900x1500 mm ANTRACIT | D13: 1 | E13: ks | F13: =VLOOKUP(B13,'ceny 8_2026'!$C$2:$E$656,3,0) -> 20752 | G13: =SUM(F13)*1.21 -> 25109.92
A14: Noble | B14: Noble/prisl./01 | C14: příslušenství noble mat 1500 mm ČERNÁ (vodicí profily) | D14: 1 | E14: par | F14: =VLOOKUP(B14,'ceny 8_2026'!$C$2:$E$656,3,0) -> 2995 | G14: =SUM(F14)*1.21 -> 3623.95
A15: Noble | B15: Noble/prisl./02 | C15: příslušenství noble mat 1500 mm BÍLÁ (vodicí profily) | D15: 1 | E15: par | F15: =VLOOKUP(B15,'ceny 8_2026'!$C$2:$E$656,3,0) -> 2995 | G15: =SUM(F15)*1.21 -> 3623.95
A16: Noble | B16: Noble/prisl./03 | C16: příslušenství noble mat 1500 mm ŠEDÁ (vodicí profily) | D16: 1 | E16: par | F16: =VLOOKUP(B16,'ceny 8_2026'!$C$2:$E$656,3,0) -> 2995 | G16: =SUM(F16)*1.21 -> 3623.95
A17: Noble | B17: Noble/prisl./ant | C17: příslušenství noble mat 1500 mm ANTRACIT (vodicí profily) | D17: 1 | E17: par | F17: =VLOOKUP(B17,'ceny 8_2026'!$C$2:$E$656,3,0) -> 2995 | G17: =SUM(F17)*1.21 -> 3623.95
A19: dodání: | C19: na zakázku lze vyrobit Noble mat set v atypických rozměrech
A20: 4 týdny

Sheet Metallic line - box
A2: Metallic line - box
A4: Skupina | B4: Reg. číslo | C4: Název | D4: Prodejní množství/MJ | F4: Prodejní cena bez DPH/MJ | G4: Prodejní cena vč. DPH 21% /MJ
A6: METALLIC LINE - BOX | B6: R25BoxAL/50 | C6: Box 25mm v rozměru 500x1500 hliník | D6: 1 | E6: ks | F6: =VLOOKUP(B6,'ceny 8_2026'!$C$2:$E$656,3,0) -> 9526 | G6: =SUM(F6)*1.21 -> 11526.46
A7: METALLIC LINE - BOX | B7: R25BoxAl/57 | C7: Box 25mm v rozměru 600x1000 hliník | D7: 1 | E7: ks | F7: =VLOOKUP(B7,'ceny 8_2026'!$C$2:$E$656,3,0) -> 10160 | G7: =SUM(F7)*1.21 -> 12293.6
A8: METALLIC LINE - BOX | B8: R25BoxAL/88 | C8: Box 25mm v rozměru 600x1500 hliník | D8: 1 | E8: ks | F8: =VLOOKUP(B8,'ceny 8_2026'!$C$2:$E$656,3,0) -> 12786 | G8: =SUM(F8)*1.21 -> 15471.06
A9: METALLIC LINE - BOX | B9: R25BoxNE/50 | C9: Box 25mm v rozměru 500x1500 nerez | D9: 1 | E9: ks | F9: =VLOOKUP(B9,'ceny 8_2026'!$C$2:$E$656,3,0) -> 10955 | G9: =SUM(F9)*1.21 -> 13255.55
A10: METALLIC LINE - BOX | B10: R25BoxNe/57 | C10: Box 25mm v rozměru 600x1000 nerez | D10: 1 | E10: ks | F10: =VLOOKUP(B10,'ceny 8_2026'!$C$2:$E$656,3,0) -> 10920 | G10: =SUM(F10)*1.21 -> 13213.2
A11: METALLIC LINE - BOX | B11: R25BoxNE/88 | C11: Box 25mm v rozměru 600x1500 nerez | D11: 1 | E11: ks | F11: =VLOOKUP(B11,'ceny 8_2026'!$C$2:$E$656,3,0) -> 13792 | G11: =SUM(F11)*1.21 -> 16688.32
A12: METALLIC LINE - BOX | B12: RBOX10/Al | C12: vodící lišta hliník 997 mm | D12: 1 | E12: ks | F12: =VLOOKUP(B12,'ceny 8_2026'!$C$2:$E$656,3,0) -> 1997 | G12: =SUM(F12)*1.21 -> 2416.37
A13: METALLIC LINE - BOX | B13: RBOX10/Ne | C13: vodící lišta nerez 997 mm | D13: 1 | E13: ks | F13: =VLOOKUP(B13,'ceny 8_2026'!$C$2:$E$656,3,0) -> 2144 | G13: =SUM(F13)*1.21 -> 2594.24
A14: METALLIC LINE - BOX | B14: RBOX15/Al | C14: vodící lišta hliník 1494 mm | D14: 1 | E14: ks | F14: =VLOOKUP(B14,'ceny 8_2026'!$C$2:$E$656,3,0) -> 2501 | G14: =SUM(F14)*1.21 -> 3026.21
A15: METALLIC LINE - BOX | B15: RBOX15/Ne | C15: vodící lišta nerez 1494 mm | D15: 1 | E15: ks | F15: =VLOOKUP(B15,'ceny 8_2026'!$C$2:$E$656,3,0) -> 2816 | G15: =SUM(F15)*1.21 -> 3407.36
A18: dodání:
A19: skladem
A20: 4 týdny

Sheet Metallic line - set
A2: Metallic line - set
A4: Skupina | B4: Reg. číslo | C4: Název | D4: Prodejní množství/MJ | F4: Prodejní cena bez DPH/MJ | G4: Prodejní cena vč. DPH 21% /MJ
A6: METALLIC LINE - SET | B6: R25SetAL/57 | C6: Set 25mm v rozměru 600x1000 hliník | D6: 1 | E6: ks | F6: =VLOOKUP(B6,'ceny 8_2026'!$C$2:$E$656,3,0) -> 9910 | G6: =SUM(F6)*1.21 -> 11991.1
A7: METALLIC LINE - SET | B7: R25SetAL/87 | C7: Set 25mm v rozměru 900x1500 hliník | D7: 1 | E7: ks | F7: =VLOOKUP(B7,'ceny 8_2026'!$C$2:$E$656,3,0) -> 15392 | G7: =SUM(F7)*1.21 -> 18624.32
A8: METALLIC LINE - SET | B8: R25SetAL/88 | C8: Set 25mm v rozměru 600x1500 hliník | D8: 1 | E8: ks | F8: =VLOOKUP(B8,'ceny 8_2026'!$C$2:$E$656,3,0) -> 15157 | G8: =SUM(F8)*1.21 -> 18339.97
A9: METALLIC LINE - SET | B9: R25SetNE/57 | C9: Set 25mm v rozměru 600x1000 nerez | D9: 1 | E9: ks | F9: =VLOOKUP(B9,'ceny 8_2026'!$C$2:$E$656,3,0) -> 11048 | G9: =SUM(F9)*1.21 -> 13368.08
A10: METALLIC LINE - SET | B10: R25SetNE/87 | C10: Set 25mm v rozměru 900x1500 nerez | D10: 1 | E10: ks | F10: =VLOOKUP(B10,'ceny 8_2026'!$C$2:$E$656,3,0) -> 20547 | G10: =SUM(F10)*1.21 -> 24861.87
A11: METALLIC LINE - SET | B11: R25SetNE/88 | C11: Set 25mm v rozměru 600x1500 nerez | D11: 1 | E11: ks | F11: =VLOOKUP(B11,'ceny 8_2026'!$C$2:$E$656,3,0) -> 16697 | G11: =SUM(F11)*1.21 -> 20203.37
A14: dodání:
A15: skladem
A16: 4 týdny

Sheet Skleněné rolety Vetro line
A2: Skleněné rolety Vetro line
A4: Skupina | B4: Reg. číslo | C4: Název | D4: Prodejní množství/MJ | F4: Prodejní cena bez DPH/MJ | G4: Prodejní cena vč. DPH 21% /MJ
A6: Vetro line | B6: RSBox1/01sm | C6: SKLO Vetro line 600x1000 smoked black | D6: 1 | E6: ks | F6: =VLOOKUP(B6,'ceny 8_2026'!$C$2:$E$656,3,0) -> 20475 | G6: =SUM(F6)*1.21 -> 24774.75
A7: Vetro line | B7: RSBox1/02L | C7: sklo Vetro-line NEW 600x1000mm OPTIWHITE | D7: 1 | E7: ks | F7: =VLOOKUP(B7,'ceny 8_2026'!$C$2:$E$656,3,0) -> 21936 | G7: =SUM(F7)*1.21 -> 26542.56
A8: Vetro line | B8: RSBox1/sat | C8: sklo Vetro-line NEW 600x1000mm SATINATO | D8: 1 | E8: ks | F8: =VLOOKUP(B8,'ceny 8_2026'!$C$2:$E$656,3,0) -> 19103 | G8: =SUM(F8)*1.21 -> 23114.63
A9: Vetro line | B9: RSBox1/01sat | C9: sklo Vetro-line NEW 600x1000mm satinato BLACK | D9: 1 | E9: ks | F9: =VLOOKUP(B9,'ceny 8_2026'!$C$2:$E$656,3,0) -> 21327 | G9: =SUM(F9)*1.21 -> 25805.67
A10: Vetro line | B10: RSBox3/01sat | C10: sklo Vetro-line NEW 600x1500mm satinato BLACK | D10: 1 | E10: ks | F10: =VLOOKUP(B10,'ceny 8_2026'!$C$2:$E$656,3,0) -> 26734 | G10: =SUM(F10)*1.21 -> 32348.14
A11: Vetro line | B11: RSBox3/01sm | C11: sklo Vetro-line NEW 600x1500mm satinato SMOKED | D11: 1 | E11: ks | F11: =VLOOKUP(B11,'ceny 8_2026'!$C$2:$E$656,3,0) -> 26214 | G11: =SUM(F11)*1.21 -> 31718.94
A12: Vetro line | B12: RSBox3/02L | C12: sklo Vetro-line NEW 600x1500mm OPTIWHITE | D12: 1 | E12: ks | F12: =VLOOKUP(B12,'ceny 8_2026'!$C$2:$E$656,3,0) -> 22029 | G12: =SUM(F12)*1.21 -> 26655.09
A13: Vetro line | B13: RSBox3/sat | C13: sklo Vetro-line NEW 600x1500mm SATINATO | D13: 1 | E13: ks | F13: =VLOOKUP(B13,'ceny 8_2026'!$C$2:$E$656,3,0) -> 23151 | G13: =SUM(F13)*1.21 -> 28012.71
A14: Vetro line | B14: RSBox4/01sat | C14: sklo Vetro-line NEW 900x1500mm satinato BLACK | D14: 1 | E14: ks | F14: =VLOOKUP(B14,'ceny 8_2026'!$C$2:$E$656,3,0) -> 30308 | G14: =SUM(F14)*1.21 -> 36672.68
A15: Vetro line | B15: RSBox4/01sm | C15: SKLO Vetro line 900x1500 smoked black | D15: 1 | E15: ks | F15: =VLOOKUP(B15,'ceny 8_2026'!$C$2:$E$656,3,0) -> 30308 | G15: =SUM(F15)*1.21 -> 36672.68
A16: Vetro line | B16: RSBox4/02L | C16: SKLO Vetro line 900x1500 optiwhite | D16: 1 | E16: ks | F16: =VLOOKUP(B16,'ceny 8_2026'!$C$2:$E$656,3,0) -> 31987 | G16: =SUM(F16)*1.21 -> 38704.27
A17: Vetro line | B17: RSBox4/sat | C17: SKLO Vetro line 900x1500 pískované sklo | D17: 1 | E17: ks | F17: =VLOOKUP(B17,'ceny 8_2026'!$C$2:$E$656,3,0) -> 29501 | G17: =SUM(F17)*1.21 -> 35696.21
... A26: Vetro line | B26: RsBox159NNew | C26: příslušenství Vetro-line 900 x 1500mm NEREZ (krycí lišta, vodicí profily) | D26: 1 | E26: par | F26: =VLOOKUP(B26,'ceny 8_2026'!$C$2:$E$656,3,0) -> 6492 | G26: =SUM(F26)*1.21 -> 7855.32
A29: dodání:
A30: 4 týdny

Sheet Skleněné rolety Glass box
A2: Skleněné rolety Glass box
A4: Skupina | B4: Reg. číslo | C4: Název | D4: Prodejní množství/MJ | F4: Prodejní cena bez DPH/MJ | G4: Prodejní cena vč. DPH 21% /MJ
A6: skleněné rolety | B6: Glass1/01/01L | C6: GlassBox 600x1320, černá lesk / černá lesk | D6: 1 | E6: ks | F6: =VLOOKUP(B6,'ceny 8_2026'!$C$2:$E$656,3,0) -> 26213.25 | G6: =SUM(F6)*1.21 -> 31718.032
A7: skleněné rolety | B7: Glass1/02/02L | C7: GlassBox 600x1320, bílá lesk / bílá lesk | D7: 1 | E7: ks | F7: =VLOOKUP(B7,'ceny 8_2026'!$C$2:$E$656,3,0) -> 26213.25 | G7: =SUM(F7)*1.21 -> 31718.032
A8: skleněné rolety | B8: Glass1/nat/sat | C8: GlassBox 600x1320, hliník natural / satinato | D8: 1 | E8: ks | F8: =VLOOKUP(B8,'ceny 8_2026'!$C$2:$E$656,3,0) -> 23982 | G8: =SUM(F8)*1.21 -> 29018.22
A9: skleněné rolety | B9: Glass10/02/02L | C9: GlassBox 900x1500, bílá lesk / bílá lesk | D9: 1 | E9: ks | F9: =VLOOKUP(B9,'ceny 8_2026'!$C$2:$E$656,3,0) -> 44655.45 | G9: =SUM(F9)*1.21 -> 54033.095
A10: skleněné rolety | B10: Glass2/02/02L | C10: GlassBox 900x1320, bílá lesk / bílá lesk | D10: 1 | E10: ks | F10: =VLOOKUP(B10,'ceny 8_2026'!$C$2:$E$656,3,0) -> 39320.4 | G10: =SUM(F10)*1.21 -> 47577.684
A11: skleněné rolety | B11: Glass2/nat/sat | C11: GlassBox 900x1320, hliník natural / satinato | D11: 1 | E11: ks | F11: =VLOOKUP(B11,'ceny 8_2026'!$C$2:$E$656,3,0) -> 35971.95 | G11: =SUM(F11)*1.21 -> 43526.06
A12: skleněné rolety | B12: Glass3/01/01L | C12: GlassBox 600x900, černá lesk / černá lesk | D12: 1 | E12: ks | F12: =VLOOKUP(B12,'ceny 8_2026'!$C$2:$E$656,3,0) -> 19226.55 | G12: =SUM(F12)*1.21 -> 23264.125
A13: skleněné rolety | B13: Glass3/02/02L | C13: GlassBox 600x900, bílá lesk / bílá lesk | D13: 1 | E13: ks | F13: =VLOOKUP(B13,'ceny 8_2026'!$C$2:$E$656,3,0) -> 19226.55 | G13: =SUM(F13)*1.21 -> 23264.125
A14: skleněné rolety | B14: Glass3/02/sat | C14: GlassBox 600x900, bílá lesk / satinato | D14: 1 | E14: ks | F14: =VLOOKUP(B14,'ceny 8_2026'!$C$2:$E$656,3,0) -> 19226.55 | G14: =SUM(F14)*1.21 -> 23264.125
A15: skleněné rolety | B15: Glass3/Ne/sat | C15: GlassBox 600x900, nerez / satinato | D15: 1 | E15: ks | F15: =VLOOKUP(B15,'ceny 8_2026'!$C$2:$E$656,3,0) -> 22078.35 | G15: =SUM(F15)*1.21 -> 26714.804
A16: skleněné rolety | B16: Glass4/01/01L | C16: GlassBox 900x900, černá lesk / černá | D16: 1 | E16: ks | F16: =VLOOKUP(B16,'ceny 8_2026'!$C$2:$E$656,3,0) -> 28861.35 | G16: =SUM(F16)*1.21 -> 34922.234
A17: skleněné rolety | B17: Glass5/01/01L | C17: GlassBox 600x1200, černá lesk / černá | D17: 1 | E17: ks | F17: =VLOOKUP(B17,'ceny 8_2026'!$C$2:$E$656,3,0) -> 23815.05 | G17: =SUM(F17)*1.21 -> 28816.21
... A32: skleněné rolety | B32: Glass9/Ne/sat | C32: GlassBox 600x1500, nerez / satinato | D32: 1 | E32: ks | F32: =VLOOKUP(B32,'ceny 8_2026'!$C$2:$E$656,3,0) -> 34235.25 | G32: =SUM(F32)*1.21 -> 41424.652
A35: dodání:
A36: 4 týdny

Sheet ceny 8_2026
A1: Systémové číslo karty | B1: SK | C1: Reg. č. | D1: Název 1 | E1: (0)Cena v HM
A2: 4680 | B2: 068 | C2: RSBox15901New | D2: příslušenství Vetro-line 900 x 1500mm ČERNÁ MAT (krycí lišta, vodicí profily) | E2: 4957
A3: 4682 | B3: 068 | C3: RSBox10601New | D3: příslušenství Vetro-line 600 x 1000mm ČERNÁ MAT (krycí lišta, vodicí profily) | E3: 3641
A4: 4714 | B4: 068 | C4: Noble1/01 | D4: box noble mat 600x1500 mm ČERNÁ | E4: 15035
A5: 4715 | B5: 068 | C5: Noble/prisl./01 | D5: příslušenství noble mat 1500 mm ČERNÁ (vodicí profily) | E5: 2995
A6: 4716 | B6: 068 | C6: Noble1/02 | D6: box noble mat 600x1500 mm BÍLÁ | E6: 15035
A7: 4717 | B7: 068 | C7: Noble1/03 | D7: box noble mat 600x1500 mm ŠEDÁ | E7: 15035
A8: 4718 | B8: 068 | C8: Noble1/ant | D8: box noble mat 600x1500 mm ANTRACIT | E8: 15035
A9: 4719 | B9: 068 | C9: Noble/prisl./02 | D9: příslušenství noble mat 1500 mm BÍLÁ (vodicí profily) | E9: 2995
A10: 4720 | B10: 068 | C10: Noble/prisl./03 | D10: příslušenství noble mat 1500 mm ŠEDÁ (vodicí profily) | E10: 2995
A11: 4721 | B11: 068 | C11: Noble/prisl./ant | D11: příslušenství noble mat 1500 mm ANTRACIT (vodicí profily) | E11: 2995
A12: 4722 | B12: 068 | C12: Noble2/01 | D12: box noble mat 900x1500 mm ČERNÁ | E12: 20752
A13: 4723 | B13: 068 | C13: Noble2/02 | D13: box noble mat 900x1500 mm BÍLÁ | E13: 20752
... A517: 1709 | B517: 901 | C517: fixplast | D517: příprava plastového FIX pancíře | E517: 347

Sheet Podklady ceník
A1: Název 1 | B1: Reg. číslo | C1: Název | D1: Délka nebo počet kusů (pro eshop) | E1: MJ evidence | F1: Množství | G1: JC bez daní Kč | H1: Celní popis zboží | I1: Čárový kód
A2: =_xlfn.CONCAT(B2,F2) -> K18/B/011 | B2: K18/B/01 | C2: nar.hrana /B 18 mm - černá | D2: 1 | E2: bm | F2: =D2 -> 1 | G2: 29
A3: =_xlfn.CONCAT(B3,F3) -> K18/B/021 | B3: K18/B/02 | C3: nar.hrana /B 18 mm - bílá | D3: 1 | E3: bm | F3: =D3 -> 1 | G3: 29
A4: =_xlfn.CONCAT(B4,F4) -> K18/B/031 | B4: K18/B/03 | C4: nar.hrana /B 18 mm - šedá | D4: 1 | E4: bm | F4: =D4 -> 1 | G4: 29
A5: =_xlfn.CONCAT(B5,F5) -> K18/B/131 | B5: K18/B/13 | C5: nar.hrana /B 18 mm - hnědá buk | D5: 1 | E5: bm | F5: =D5 -> 1 | G5: 29
A6: =_xlfn.CONCAT(B6,F6) -> K18/B/05100 | B6: K18/B/05 | C6: nar.hrana /B 18 mm - červená | D6: 100 | E6: bm | F6: =D6 -> 100 | G6: 29
A7: =_xlfn.CONCAT(B7,F7) -> K18/B/06100 | B7: K18/B/06 | C7: nar.hrana /B 18 mm - zelená | D7: 100 | E7: bm | F7: =D7 -> 100 | G7: 29
A8: =_xlfn.CONCAT(B8,F8) -> K18/B/08100 | B8: K18/B/08 | C8: nar.hrana /B 18 mm - žlutá | D8: 100 | E8: bm | F8: =D8 -> 100 | G8: 29
A9: =_xlfn.CONCAT(B9,F9) -> K18/B/14100 | B9: K18/B/14 | C9: nar. hrana/B 18 mm - oranžová | D9: 100 | E9: bm | F9: =D9 -> 100 | G9: 29
A10: =_xlfn.CONCAT(B10,F10) -> K18/B/15100 | B10: K18/B/15 | C10: nar. hrana/ B 18 mm - fialová | D10: 100 | E10: bm | F10: =D10 -> 100 | G10: 29
A11: =_xlfn.CONCAT(B11,F11) -> K36/021 | B11: K36/02 | C11: nar. hrana 36 mm - bílá | D11: 1 | E11: bm | F11: =D11 -> 1 | G11: 103
A12: =_xlfn.CONCAT(B12,F12) -> K38/011 | B12: K38/01 | C12: nar. hrana 38 mm - černá | D12: 1 | E12: bm | F12: =D12 -> 1 | G12: 103
A13: =_xlfn.CONCAT(B13,F13) -> S18 P02561 | B13: S18 P0256 | C13: Nar. hrana 18 mm - buk | D13: 1 | E13: bm | F13: =D13 -> 1 | G13: 60
A14: =_xlfn.CONCAT(B14,F14) -> U38/Nat2,1 | B14: U38/Nat | C14: U - profil 38 mm; délka 4,2m - hliník nat. | D14: 4.2 | E14: bm | F14: 2.1 | G14: 264
A15: =_xlfn.CONCAT(B15,F15) -> U38/Nat4,2 | B15: U38/Nat | C15: U - profil 38 mm; délka 4,2m - hliník nat. | D15: 4.2 | E15: bm | F15: 4.2 | G15: 264
A16: =_xlfn.CONCAT(B16,F16) -> U38/Nat100,8 | B16: U38/Nat | C16: U - profil 38 mm; délka 4,2m - hliník nat. | D16: 4.2 | E16: bm | F16: 100.8 | G16: 264
A17: =_xlfn.CONCAT(B17,F17) -> U38/p/Nat1 | B17: U38/p/Nat | C17: spojovací roh vnější - hliník nat. | D17: 1 | E17: ks | F17: =D17 -> 1 | G17: 171
A18: =_xlfn.CONCAT(B18,F18) -> U38/p/Nat30 | B18: U38/p/Nat | C18: spojovací roh vnější - hliník nat. | D18: 1 | E18: ks | F18: 30 | G18: 171
A19: =_xlfn.CONCAT(B19,F19) -> U38/r/Nat1 | B19: U38/r/Nat | C19: spojovací roh vnitřní - hliník nat. | D19: 1 | E19: ks | F19: =D19 -> 1 | G19: 171
A20: =_xlfn.CONCAT(B20,F20) -> U38/r/Nat30 | B20: U38/r/Nat | C20: spojovací roh vnitřní - hliník nat. | D20: 1 | E20: ks | F20: 30 | G20: 171
A21: =_xlfn.CONCAT(B21,F21) -> UL18/Al3 | B21: UL18/Al | C21: U - profil - hliník | D21: 3 | E21: bm | F21: =D21 -> 3 | G21: 103
A22: =_xlfn.CONCAT(B22,F22) -> UL18/Al150 | B22: UL18/Al | C22: U - profil - hliník | D22: 3 | E22: bm | F22: 150 | G22: 103
A23: =_xlfn.CONCAT(B23,F23) -> UL18/Ne3 | B23: UL18/Ne | C23: U - profil - nerez | D23: 3 | E23: bm | F23: =D23 -> 3 | G23: 103
A24: =_xlfn.CONCAT(B24,F24) -> UL18/Ne150 | B24: UL18/Ne | C24: U - profil - nerez | D24: 3 | E24: bm | F24: 150 | G24: 103
A25: =_xlfn.CONCAT(B25,F25) -> UL18/r/Al1 | B25: UL18/r/Al | C25: spojovací roh - hliník | D25: 1 | E25: ks | F25: =D25 -> 1 | G25: 29
A26: =_xlfn.CONCAT(B26,F26) -> UL18/r/Al100 | B26: UL18/r/Al | C26: spojovací roh - hliník | D26: 1 | E26: ks | F26: 100 | G26: 29
A27: =_xlfn.CONCAT(B27,F27) -> UL18/r/Ne1 | B27: UL18/r/Ne | C27: spojovací roh - nerez | D27: 1 | E27: ks | F27: =D27 -> 1 | G27: 29
A28: =_xlfn.CONCAT(B28,F28) -> UL18/r/Ne100 | B28: UL18/r/Ne | C28: spojovací roh - nerez | D28: 1 | E28: ks | F28: 100 | G28: 29
A29: =_xlfn.CONCAT(B29,F29) -> T1005/B/NaR3 | B29: T1005/B/NaR | C29: dekorativní lišta 10x0,5mm - hliník natural - bez samolepky - rozměřená | D29: 3 | E29: bm | F29: =D29 -> 3 | G29: 64
A30: =_xlfn.CONCAT(B30,F30) -> T1005/B/Nat0,1 | B30: T1005/B/Nat | C30: dekorativní lišta 10x0,5mm - hliník natural - bez samolepky | D30: 3 | E30: bm | F30: 0.1 | G30: 64
A31: =_xlfn.CONCAT(B31,F31) -> T1005/B/Nat3 | B31: T1005/B/Nat | C31: dekorativní lišta 10x0,5mm - hliník natural - bez samolepky | D31: 3 | E31: bm | F31: 3 | G31: 64
A32: =_xlfn.CONCAT(B32,F32) -> T1005/Nat0,1 | B32: T1005/Nat | C32: dekorativní lišta 10x0,5mm - hliník natural | D32: 3 | E32: bm | F32: 0.1 | G32: 74
A33: =_xlfn.CONCAT(B33,F33) -> T1005/Nat3 | B33: T1005/Nat | C33: dekorativní lišta 10x0,5mm - hliník natural | D33: 3 | E33: bm | F33: 3 | G33: 74
A34: =_xlfn.CONCAT(B34,F34) -> T1005/Nat100 | B34: T1005/Nat | C34: dekorativní lišta 10x0,5mm - hliník natural | D34: 3 | E34: bm | F34: 100 | G34: 74
A35: =_xlfn.CONCAT(B35,F35) -> T1005/NatR3 | B35: T1005/NatR | C35: dekorativní lišta 10x0,5mm - hliník natural - rozměřená | D35: 3 | E35: bm | F35: =D35 -> 3 | G35: 74
A36: =_xlfn.CONCAT(B36,F36) -> T1020/010,1 | B36: T1020/01 | C36: dekorativní lišta 10x2mm - černá | D36: 3 | E36: bm | F36: 0.1 | G36: 86
A37: =_xlfn.CONCAT(B37,F37) -> T1020/013 | B37: T1020/01 | C37: dekorativní lišta 10x2mm - černá | D37: 3 | E37: bm | F37: 3 | G37: 86
A38: =_xlfn.CONCAT(B38,F38) -> T1020/01210 | B38: T1020/01 | C38: dekorativní lišta 10x2mm - černá | D38: 3 | E38: bm | F38: 210 | G38: 86
A39: =_xlfn.CONCAT(B39,F39) -> T1020/01R3 | B39: T1020/01R | C39: dekorativní lišta 10x2mm - černá - rozměřený | D39: 3 | E39: bm | F39: =D39 -> 3 | G39: 86
A40: =_xlfn.CONCAT(B40,F40) -> T1020/Al0,1 | B40: T1020/Al | C40: dekorativní lišta 10x2mm - hliník broušený | D40: 3 | E40: bm | F40: 0.1 | G40: 86
A41: =_xlfn.CONCAT(B41,F41) -> T1020/Al3 | B41: T1020/Al | C41: dekorativní lišta 10x2mm - hliník broušený | D41: 3 | E41: bm | F41: 3 | G41: 86
A42: =_xlfn.CONCAT(B42,F42) -> T1020/Al210 | B42: T1020/Al | C42: dekorativní lišta 10x2mm - hliník broušený | D42: 3 | E42: bm | F42: 210 | G42: 86
A43: =_xlfn.CONCAT(B43,F43) -> T1020/AlM2 | B43: T1020/AlM | C43: dekorativní lišta 10x2mm - hliník broušený - délka 2m | D43: 2 | E43: bm | F43: =D43 -> 2 | G43: #N/A
A44: =_xlfn.CONCAT(B44,F44) -> T1020/AlR3 | B44: T1020/AlR | C44: dekorativní lišta 10x2mm - hliník broušený - rozměřená | D44: 3 | E44: bm | F44: =D44 -> 3 | G44: 86
A45: =_xlfn.CONCAT(B45,F45) -> T1020/Nat0,1 | B45: T1020/Nat | C45: dekorativní lišta 10x2mm - hliník natural | D45: 3 | E45: bm | F45: 0.1 | G45: 86
A46: =_xlfn.CONCAT(B46,F46) -> T1020/Nat3 | B46: T1020/Nat | C46: dekorativní lišta 10x2mm - hliník natural | D46: 3 | E46: bm | F46: 3 | G46: 86
A47: =_xlfn.CONCAT(B47,F47) -> T1020/Nat210 | B47: T1020/Nat | C47: dekorativní lišta 10x2mm - hliník natural | D47: 3 | E47: bm | F47: 210 | G47: 86
A48: =_xlfn.CONCAT(B48,F48) -> T1020/Ne0,1 | B48: T1020/Ne | C48: dekorativní lišta 10x2mm - nerez broušený | D48: 3 | E48: bm | F48: 0.1 | G48: 86
A49: =_xlfn.CONCAT(B49,F49) -> T1020/Ne3 | B49: T1020/Ne | C49: dekorativní lišta 10x2mm - nerez broušený | D49: 3 | E49: bm | F49: 3 | G49: 86
A50: =_xlfn.CONCAT(B50,F50) -> T1020/Ne210 | B50: T1020/Ne | C50: dekorativní lišta 10x2mm - nerez broušený | D50: 3 | E50: bm | F50: 210 | G50: 86
A51: =_xlfn.CONCAT(B51,F51) -> T1130/02L3 | B51: T1130/02L | C51: dekorativní lišta 11x3 - bílá lesk | D51: 3 | E51: bm | F51: =D51 -> 3 | G51: 47
A52: =_xlfn.CONCAT(B52,F52) -> T2020/Nat0,1 | B52: T2020/Nat | C52: dekorativní lišta 20x2mm - hliník natural | D52: 3 | E52: bm | F52: 0.1 | G52: 101
A53: =_xlfn.CONCAT(B53,F53) -> T2020/Nat3 | B53: T2020/Nat | C53: dekorativní lišta 20x2mm - hliník natural | D53: 3 | E53: bm | F53: 3 | G53: 101
A54: =_xlfn.CONCAT(B54,F54) -> T2020/Nat720 | B54: T2020/Nat | C54: dekorativní lišta 20x2mm - hliník natural | D54: 3 | E54: bm | F54: 720 | G54: 101
A55: =_xlfn.CONCAT(B55,F55) -> T2020/Ne0,1 | B55: T2020/Ne | C55: dekorativní lišta 20x2mm - nerez broušený | D55: 3 | E55: bm | F55: 0.1 | G55: 101
A56: =_xlfn.CONCAT(B56,F56) -> T2020/Ne3 | B56: T2020/Ne | C56: dekorativní lišta 20x2mm - nerez broušený | D56: 3 | E56: bm | F56: 3 | G56: 101
A57: =_xlfn.CONCAT(B57,F57) -> T2020/Ne720 | B57: T2020/Ne | C57: dekorativní lišta 20x2mm - nerez broušený | D57: 3 | E57: bm | F57: 720 | G57: 101
A58: =_xlfn.CONCAT(B58,F58) -> 0S060/012,25 | B58: 0S060/01 | C58: svislý úchytový profil - černá mat | D58: 2.7 | E58: bm | F58: 2.25 | G58: 492
A59: =_xlfn.CONCAT(B59,F59) -> 0S060/014,5 | B59: 0S060/01 | C59: svislý úchytový profil - černá mat | D59: 2.7 | E59: bm | F59: 4.5 | G59: 492
A60: =_xlfn.CONCAT(B60,F60) -> 0S060/0167,5 | B60: 0S060/01 | C60: svislý úchytový profil - černá mat | D60: 2.7 | E60: bm | F60: 67.5 | G60: 492
A61: =_xlfn.CONCAT(B61,F61) -> S044/Ne1 | B61: S044/Ne | C61: montážní profil pro upevnění vestavné trouby do profilů S059, S060 | D61: 1 | E61: ks | F61: =D61 -> 1 | G61: 264
A62: =_xlfn.CONCAT(B62,F62) -> S056/010,1 | B62: S056/01 | C62: úchyt.profil "L" pod pracovní desku - černá mat | D62: 4.1 | E62: bm | F62: 0.1 | G62: 337
A63: =_xlfn.CONCAT(B63,F63) -> S056/012,05 | B63: S056/01 | C63: úchyt.profil "L" pod pracovní desku - černá mat | D63: 4.1 | E63: bm | F63: 2.05 | G63: 337
A64: =_xlfn.CONCAT(B64,F64) -> S056/014,1 | B64: S056/01 | C64: úchyt.profil "L" pod pracovní desku - černá mat | D64: 4.1 | E64: bm | F64: 4.1 | G64: 337
A65: =_xlfn.CONCAT(B65,F65) -> S056/0165,6 | B65: S056/01 | C65: úchyt.profil "L" pod pracovní desku - černá mat | D65: 4.1 | E65: bm | F65: 65.6 | G65: 337
A66: =_xlfn.CONCAT(B66,F66) -> S056/02L0,1 | B66: S056/02L | C66: úchyt.profil "L" pod pracovní desku - bílá lesk | D66: 4.1 | E66: bm | F66: 0.1 | G66: 337
A67: =_xlfn.CONCAT(B67,F67) -> S056/02L2,05 | B67: S056/02L | C67: úchyt.profil "L" pod pracovní desku - bílá lesk | D67: 4.1 | E67: bm | F67: 2.05 | G67: 337
A68: =_xlfn.CONCAT(B68,F68) -> S056/02L4,1 | B68: S056/02L | C68: úchyt.profil "L" pod pracovní desku - bílá lesk | D68: 4.1 | E68: bm | F68: 4.1 | G68: 337
A69: =_xlfn.CONCAT(B69,F69) -> S056/02L65,6 | B69: S056/02L | C69: úchyt.profil "L" pod pracovní desku - bílá lesk | D69: 4.1 | E69: bm | F69: 65.6 | G69: 337
A70: =_xlfn.CONCAT(B70,F70) -> S056/Al0,1 | B70: S056/Al | C70: úchyt.profil "L" pod pracovní desku - hliník broušený | D70: 4.1 | E70: bm | F70: 0.1 | G70: 337
A71: =_xlfn.CONCAT(B71,F71) -> S056/Al2,05 | B71: S056/Al | C71: úchyt.profil "L" pod pracovní desku - hliník broušený | D71: 4.1 | E71: bm | F71: 2.05 | G71: 337
A72: =_xlfn.CONCAT(B72,F72) -> S056/Al4,1 | B72: S056/Al | C72: úchyt.profil "L" pod pracovní desku - hliník broušený | D72: 4.1 | E72: bm | F72: 4.1 | G72: 337
A73: =_xlfn.CONCAT(B73,F73) -> S056/Al65,6 | B73: S056/Al | C73: úchyt.profil "L" pod pracovní desku - hliník broušený | D73: 4.1 | E73: bm | F73: 65.6 | G73: 337
... A109: =_xlfn.CONCAT(B109,F109) -> S056/Ne65,6 | B109: S056/Ne | C109: úchyt.profil "L" pod pracovní desku - nerez broušený | D109: 4.1 | E109: bm | F109: 65.6 | G109: 337
A110: =_xlfn.CONCAT(B110,F110) -> S056/p/Al1 | B110: S056/p/Al | C110: roh vnější k úchytovému profilu - hliník | D110: 1 | E110: ks | F110: =D110 -> 1 | G110: 898
A111: =_xlfn.CONCAT(B111,F111) -> S056/p/Ne1 | B111: S056/p/Ne | C111: roh vnější k úchytovému profilu - nerez | D111: 1 | E111: ks | F111: =D111 -> 1 | G111: 898
A112: =_xlfn.CONCAT(B112,F112) -> S056/p2/011 | B112: S056/p2/01 | C112: PLASTOVÝ roh vnější k úchytovému profilu - černý | D112: 1 | E112: ks | F112: =D112 -> 1 | G112: 384
A113: =_xlfn.CONCAT(B113,F113) -> S056/p2/021 | B113: S056/p2/02 | C113: PLASTOVÝ roh vnější k úchytovému profilu - bílá | D113: 1 | E113: ks | F113: =D113 -> 1 | G113: 384
A114: =_xlfn.CONCAT(B114,F114) -> S056/p2/Al1 | B114: S056/p2/Al | C114: PLASTOVÝ roh vnější k úchytovému profilu - hliník | D114: 1 | E114: ks | F114: =D114 -> 1 | G114: 384
A115: =_xlfn.CONCAT(B115,F115) -> S056/p2/An1 | B115: S056/p2/An | C115: PLASTOVÝ roh vnější k úchytovému profilu - antracit | D115: 1 | E115: ks | F115: =D115 -> 1 | G115: 384
A116: =_xlfn.CONCAT(B116,F116) -> S056/p2/Ne1 | B116: S056/p2/Ne | C116: PLASTOVÝ roh vnější k úchytovému profilu - nerez | D116: 1 | E116: ks | F116: =D116 -> 1 | G116: 384
A117: =_xlfn.CONCAT(B117,F117) -> S056/r/Al1 | B117: S056/r/Al | C117: roh vnitřní k úchytovému profilu - hliník | D117: 1 | E117: ks | F117: =D117 -> 1 | G117: 914
A118: =_xlfn.CONCAT(B118,F118) -> S056/r/Ne1 | B118: S056/r/Ne | C118: roh vnitřní k úchytovému profilu - nerez | D118: 1 | E118: ks | F118: =D118 -> 1 | G118: 914
A119: =_xlfn.CONCAT(B119,F119) -> S056/r2/011 | B119: S056/r2/01 | C119: PLASTOVÝ roh vnitřní k úchytovému profilu - černý | D119: 1 | E119: ks | F119: =D119 -> 1 | G119: 390
A120: =_xlfn.CONCAT(B120,F120) -> S056/r2/021 | B120: S056/r2/02 | C120: PLASTOVÝ roh vnitřní k úchytovému profilu - bílá | D120: 1 | E120: ks | F120: =D120 -> 1 | G120: 390
A121: =_xlfn.CONCAT(B121,F121) -> S056/r2/Al1 | B121: S056/r2/Al | C121: PLASTOVÝ roh vnitřní k úchytovému profilu - hliník | D121: 1 | E121: ks | F121: =D121 -> 1 | G121: 390
... A153: =_xlfn.CONCAT(B153,F153) -> S056/z3/Ne_P1 | B153: S056/z3/Ne_P | C153: koncovka PLNÁ k úchytovému LED profilu "L" - nerez, pravá | D153: 1 | E153: ks | F153: =D153 -> 1 | G153: 671
A154: =_xlfn.CONCAT(B154,F154) -> S057/010,1 | B154: S057/01 | C154: zásuvkový úchytový profil "C" - černá mat | D154: 4.1 | E154: bm | F154: 0.1 | G154: 418
A155: =_xlfn.CONCAT(B155,F155) -> S057/012,05 | B155: S057/01 | C155: zásuvkový úchytový profil "C" - černá mat | D155: 4.1 | E155: bm | F155: 2.05 | G155: 418
A156: =_xlfn.CONCAT(B156,F156) -> S057/014,1 | B156: S057/01 | C156: zásuvkový úchytový profil "C" - černá mat | D156: 4.1 | E156: bm | F156: 4.1 | G156: 418
A157: =_xlfn.CONCAT(B157,F157) -> S057/0165,6 | B157: S057/01 | C157: zásuvkový úchytový profil "C" - černá mat | D157: 4.1 | E157: bm | F157: 65.6 | G157: 418
A158: =_xlfn.CONCAT(B158,F158) -> S057/02L0,1 | B158: S057/02L | C158: zásuvkový úchytový profil "C" - bílá lesk | D158: 4.1 | E158: bm | F158: 0.1 | G158: 418
A159: =_xlfn.CONCAT(B159,F159) -> S057/02L2,05 | B159: S057/02L | C159: zásuvkový úchytový profil "C" - bílá lesk | D159: 4.1 | E159: bm | F159: 2.05 | G159: 418
A160: =_xlfn.CONCAT(B160,F160) -> S057/02L4,1 | B160: S057/02L | C160: zásuvkový úchytový profil "C" - bílá lesk | D160: 4.1 | E160: bm | F160: 4.1 | G160: 418
A161: =_xlfn.CONCAT(B161,F161) -> S057/02L65,6 | B161: S057/02L | C161: zásuvkový úchytový profil "C" - bílá lesk | D161: 4.1 | E161: bm | F161: 65.6 | G161: 418
A162: =_xlfn.CONCAT(B162,F162) -> S057/Al0,1 | B162: S057/Al | C162: zásuvkový úchytový profil "C" - hliník broušený | D162: 4.1 | E162: bm | F162: 0.1 | G162: 418
A163: =_xlfn.CONCAT(B163,F163) -> S057/Al2,05 | B163: S057/Al | C163: zásuvkový úchytový profil "C" - hliník broušený | D163: 4.1 | E163: bm | F163: 2.05 | G163: 418
A164: =_xlfn.CONCAT(B164,F164) -> S057/Al4,1 | B164: S057/Al | C164: zásuvkový úchytový profil "C" - hliník broušený | D164: 4.1 | E164: bm | F164: 4.1 | G164: 418
A165: =_xlfn.CONCAT(B165,F165) -> S057/Al65,6 | B165: S057/Al | C165: zásuvkový úchytový profil "C" - hliník broušený | D165: 4.1 | E165: bm | F165: 65.6 | G165: 418
... A201: =_xlfn.CONCAT(B201,F201) -> S057/Ne65,6 | B201: S057/Ne | C201: zásuvkový úchytový profil "C" - nerez broušený | D201: 4.1 | E201: bm | F201: 65.6 | G201: 418
...
